BEGIN:VCALENDAR
VERSION:2.0
PRODID:-//Saalfelden-Leogang.com//NONSGML kigkonsult.se iCalcreator 2.22.1/
 /DE
METHOD:PUBLISH
X-WR-CALNAME;LANGUAGE=de:Saalfelden-Leogang.com
X-WR-CALDESC;LANGUAGE=de:Saalfelden-Leogang.com
X-WR-TIMEZONE;LANGUAGE=de:Europe/Berlin
BEGIN:VEVENT
UID:20260423T105520CEST-2480P9CwZg@Saalfelden-Leogang.com
DTSTAMP:20260423T085520Z
DESCRIPTION;LANGUAGE=de:Kurdistan/Kanada\, Austria\n\n\n\nKasho Chualan - p
 repared piano\, electronics \n\nLukas König - drums\, amplified cymbal\n\n
 \n\nDie kurdisch-kanadische Pianistin und Komponistin Kasho Chualan gilt a
 ls „Antichrist*in der klassischen Musik“\, auch weil sie Grenzen nicht nur
  überschreitet\, sondern dabei am liebsten gleich einreißt. „Manipulieren 
 und Improvisieren mit einem experimentellen\, traumhaften\, narrativen und
  strukturellen Ansatz“ führt zu Cut-up-Collagen wie etwa ihrem „Trauma Nos
 talgique“ mit einem „Sound der Notwendigkeit des Widerstands gegen extrem 
 radikale patriarchalische Regime“. Als Wahl-Wienerin hat sie schon im letz
 ten Dezember gemeinsame solo-together-Sachen mit dem multitaskenden Drumme
 r und Klängemacher Lukas König gemacht\, den Ö1 auch mal als „musikalische
 n Teilchenbeschleuniger“ bezeichnete\, bei denen alle möglichen #experimen
 tal-Hashtags auftauchten. Wie schon Sri Nisargadatta Maharaj\, der weise i
 ndische spirituelle Lehrer wusste: „Das Unerwartete und Unvorhersehbare is
 t wahrhaftig“.
DTSTART:20250822T123000Z
DTEND:20250822T133000Z
LOCATION;LANGUAGE=de:Kunsthaus Nexus
SUMMARY;LANGUAGE=de:Kasho Chualan / Lukas König
END:VEVENT
END:VCALENDAR
